BEGIN:VCALENDAR
VERSION:2.0
PRODID:-//Geolunch seminar @ UiB - ECPv6.15.20//NONSGML v1.0//EN
CALSCALE:GREGORIAN
METHOD:PUBLISH
X-WR-CALNAME:Geolunch seminar @ UiB
X-ORIGINAL-URL:https://geolunch.w.uib.no
X-WR-CALDESC:Events for Geolunch seminar @ UiB
REFRESH-INTERVAL;VALUE=DURATION:PT1H
X-Robots-Tag:noindex
X-PUBLISHED-TTL:PT1H
BEGIN:VTIMEZONE
TZID:Europe/Oslo
BEGIN:DAYLIGHT
TZOFFSETFROM:+0100
TZOFFSETTO:+0200
TZNAME:CEST
DTSTART:20230326T010000
END:DAYLIGHT
BEGIN:STANDARD
TZOFFSETFROM:+0200
TZOFFSETTO:+0100
TZNAME:CET
DTSTART:20231029T010000
END:STANDARD
BEGIN:DAYLIGHT
TZOFFSETFROM:+0100
TZOFFSETTO:+0200
TZNAME:CEST
DTSTART:20240331T010000
END:DAYLIGHT
BEGIN:STANDARD
TZOFFSETFROM:+0200
TZOFFSETTO:+0100
TZNAME:CET
DTSTART:20241027T010000
END:STANDARD
BEGIN:DAYLIGHT
TZOFFSETFROM:+0100
TZOFFSETTO:+0200
TZNAME:CEST
DTSTART:20250330T010000
END:DAYLIGHT
BEGIN:STANDARD
TZOFFSETFROM:+0200
TZOFFSETTO:+0100
TZNAME:CET
DTSTART:20251026T010000
END:STANDARD
END:VTIMEZONE
BEGIN:VEVENT
DTSTART;TZID=Europe/Oslo:20240926T121500
DTEND;TZID=Europe/Oslo:20240926T130000
DTSTAMP:20260419T183312
CREATED:20240917T081618Z
LAST-MODIFIED:20240924T134645Z
UID:943-1727352900-1727355600@geolunch.w.uib.no
SUMMARY:Robert Reinecke
DESCRIPTION:How to use an impossible map – uncertainties in modeling the global water cycle \nRobert Reinecke (Guest at the Department invited by Elco Luijendijk) \nGlobal water models allow us to explore the terrestrial water cycle in an earth-sized digital laboratory to guide science and policy. These models simulate increasingly complex representations of different compartments\, such as groundwater\, and complex processes\, such as seawater intrusion. They are coupled with other models\, bringing us closer to a digital twin of Earth and enabling us to carry out complex impact assessments of the far future. At the same time\, bias-corrected seasonal forecasts allow us to use these models as a window into the near future. However\, global water models remain highly uncertain and evaluating them remains challenging. Multiple pathways can be taken to reduce these uncertainties by collecting available knowledge in new ways and analyzing this data with new approaches. In this talk\, I will outline new strategies for assessing these complex models differently and rigorously and develop more sustainable research software for a robust science.
URL:https://geolunch.w.uib.no/event/robert-reinecke/
LOCATION:Kontinentalsokkelen (2G16e)\, Realfagbygget\, Allégaten 41\, Bergen\, 5007\, Norway
CATEGORIES:Visitor
END:VEVENT
END:VCALENDAR