BEGIN:VCALENDAR
VERSION:2.0
PRODID:-//Geolunch seminar @ UiB - ECPv6.15.20//NONSGML v1.0//EN
CALSCALE:GREGORIAN
METHOD:PUBLISH
X-ORIGINAL-URL:https://geolunch.w.uib.no
X-WR-CALDESC:Events for Geolunch seminar @ UiB
REFRESH-INTERVAL;VALUE=DURATION:PT1H
X-Robots-Tag:noindex
X-PUBLISHED-TTL:PT1H
BEGIN:VTIMEZONE
TZID:Europe/Oslo
BEGIN:DAYLIGHT
TZOFFSETFROM:+0100
TZOFFSETTO:+0200
TZNAME:CEST
DTSTART:20230326T010000
END:DAYLIGHT
BEGIN:STANDARD
TZOFFSETFROM:+0200
TZOFFSETTO:+0100
TZNAME:CET
DTSTART:20231029T010000
END:STANDARD
BEGIN:DAYLIGHT
TZOFFSETFROM:+0100
TZOFFSETTO:+0200
TZNAME:CEST
DTSTART:20240331T010000
END:DAYLIGHT
BEGIN:STANDARD
TZOFFSETFROM:+0200
TZOFFSETTO:+0100
TZNAME:CET
DTSTART:20241027T010000
END:STANDARD
BEGIN:DAYLIGHT
TZOFFSETFROM:+0100
TZOFFSETTO:+0200
TZNAME:CEST
DTSTART:20250330T010000
END:DAYLIGHT
BEGIN:STANDARD
TZOFFSETFROM:+0200
TZOFFSETTO:+0100
TZNAME:CET
DTSTART:20251026T010000
END:STANDARD
END:VTIMEZONE
BEGIN:VEVENT
DTSTART;TZID=Europe/Oslo:20241002T001500
DTEND;TZID=Europe/Oslo:20241002T130000
DTSTAMP:20260419T211700
CREATED:20241001T140318Z
LAST-MODIFIED:20241001T140318Z
UID:982-1727828100-1727874000@geolunch.w.uib.no
SUMMARY:Océane Foix
DESCRIPTION:From local travel time tomography to seismotectonic models.\nOcéane Foix\, ISTerre\, UGA\, Grenoble\, France \nFrom the creation of seismic databases to seismic travel time tomography and seismic hazard\, my aim is to present my career as a young researcher over the last 5 years. I have been able to study different tectonic systems and contexts\, such as the deformation of the Vanuatu central subduction forearc (tomography)\, the seismo-volcanic crisis of Mayotte (tomography) and finally the seismic hazard of the Lesser Antilles subduction (seismotectonic model). At present\, I’m using my knowledge to assess the effect of mantle wedge seismicity in the Lesser Antilles on seismic hazard calculations.
URL:https://geolunch.w.uib.no/event/oceane-foix/
LOCATION:Kontinentalsokkelen (2G16e)\, Realfagbygget\, Allégaten 41\, Bergen\, 5007\, Norway
END:VEVENT
END:VCALENDAR