BEGIN:VCALENDAR
VERSION:2.0
PRODID:-//Geolunch seminar @ UiB - ECPv6.15.20//NONSGML v1.0//EN
CALSCALE:GREGORIAN
METHOD:PUBLISH
X-ORIGINAL-URL:https://geolunch.w.uib.no
X-WR-CALDESC:Events for Geolunch seminar @ UiB
REFRESH-INTERVAL;VALUE=DURATION:PT1H
X-Robots-Tag:noindex
X-PUBLISHED-TTL:PT1H
BEGIN:VTIMEZONE
TZID:Europe/Oslo
BEGIN:DAYLIGHT
TZOFFSETFROM:+0100
TZOFFSETTO:+0200
TZNAME:CEST
DTSTART:20230326T010000
END:DAYLIGHT
BEGIN:STANDARD
TZOFFSETFROM:+0200
TZOFFSETTO:+0100
TZNAME:CET
DTSTART:20231029T010000
END:STANDARD
BEGIN:DAYLIGHT
TZOFFSETFROM:+0100
TZOFFSETTO:+0200
TZNAME:CEST
DTSTART:20240331T010000
END:DAYLIGHT
BEGIN:STANDARD
TZOFFSETFROM:+0200
TZOFFSETTO:+0100
TZNAME:CET
DTSTART:20241027T010000
END:STANDARD
BEGIN:DAYLIGHT
TZOFFSETFROM:+0100
TZOFFSETTO:+0200
TZNAME:CEST
DTSTART:20250330T010000
END:DAYLIGHT
BEGIN:STANDARD
TZOFFSETFROM:+0200
TZOFFSETTO:+0100
TZNAME:CET
DTSTART:20251026T010000
END:STANDARD
END:VTIMEZONE
BEGIN:VEVENT
DTSTART;TZID=Europe/Oslo:20241120T001500
DTEND;TZID=Europe/Oslo:20241120T130000
DTSTAMP:20260419T210811
CREATED:20241119T100952Z
LAST-MODIFIED:20241119T135549Z
UID:1009-1732061700-1732107600@geolunch.w.uib.no
SUMMARY:Mathilde Bøttger Sørensen
DESCRIPTION:EPOS-Norway – Research Infrastructure for Geohazards (EPOS-NG) \nMathilde Bøttger Sørensen \nThe EPOS-Norway – Research Infrastructure for Geohazards (EPOS-NG) will be established\, starting from early 2025\, with funding from the Research Council of Norway’s Infrastructure program. EPOS-NG aims to be the go-to infrastructure for research on geohazards in Norway (i.e.\, landslides\, tsunamis\, earthquakes\, and cryospheric hazards). Complementary to EPOS ERIC and building on research infrastructure developed during EPOS-Norway (EPOS-N) phase 1\, EPOS-NG will establish new pools of instruments that are easily accessible to all geoscientists in Norway. We will develop an enhanced and extended state-of-the-art data portal to provide nationwide access to a range of geoscience data as well as computational and visualisation services. The EPOS-NG instrument pools include rapid-deployable seismometers\, ocean bottom seismographs\, Distributed Acoustic Sensing and Distributed Temperature and Strain Sensing instrumentation\, Transient Electromagnetic measurement capacity\, piezometers\, self-potential sensors and ground-based interferometric radar systems. The new instruments will facilitate research on a wide range of processes including seismicity\, slope stability and landslides\, groundwater and soil conditions\, permafrost and cryospheric processes. Combined with new services for tsunami hazard assessment\, as well as novel datasets on InSAR displacement trends and historical and palaeoseismological events\, new links can be established through comprehensive\, multidisciplinary studies. Effective data integration and visualisation will be achieved via the EPOS-N portal\, which was developed in EPOS-N phase 1 and will be substantially enhanced in close dialogue with the users in EPOS-NG. The portal combines data from distributed monitoring networks\, innovative services for advanced data analysis and national databases within geosciences into a single national e-infrastructure\, following FAIR principles. EPOS-NG thus represents a unifying nationwide research infrastructure\, including all the relevant physical infrastructures and providing a national hub for solid Earth science data and services. In this presentation\, I will present the plans for EPOS-NG and describe how the community can be involved in and benefit from the activities.
URL:https://geolunch.w.uib.no/event/mathilde-bottger-sorensen/
END:VEVENT
END:VCALENDAR