BEGIN:VCALENDAR
VERSION:2.0
PRODID:-//Geolunch seminar @ UiB - ECPv6.15.20//NONSGML v1.0//EN
CALSCALE:GREGORIAN
METHOD:PUBLISH
X-WR-CALNAME:Geolunch seminar @ UiB
X-ORIGINAL-URL:https://geolunch.w.uib.no
X-WR-CALDESC:Events for Geolunch seminar @ UiB
REFRESH-INTERVAL;VALUE=DURATION:PT1H
X-Robots-Tag:noindex
X-PUBLISHED-TTL:PT1H
BEGIN:VTIMEZONE
TZID:Europe/Oslo
BEGIN:DAYLIGHT
TZOFFSETFROM:+0100
TZOFFSETTO:+0200
TZNAME:CEST
DTSTART:20240331T010000
END:DAYLIGHT
BEGIN:STANDARD
TZOFFSETFROM:+0200
TZOFFSETTO:+0100
TZNAME:CET
DTSTART:20241027T010000
END:STANDARD
BEGIN:DAYLIGHT
TZOFFSETFROM:+0100
TZOFFSETTO:+0200
TZNAME:CEST
DTSTART:20250330T010000
END:DAYLIGHT
BEGIN:STANDARD
TZOFFSETFROM:+0200
TZOFFSETTO:+0100
TZNAME:CET
DTSTART:20251026T010000
END:STANDARD
BEGIN:DAYLIGHT
TZOFFSETFROM:+0100
TZOFFSETTO:+0200
TZNAME:CEST
DTSTART:20260329T010000
END:DAYLIGHT
BEGIN:STANDARD
TZOFFSETFROM:+0200
TZOFFSETTO:+0100
TZNAME:CET
DTSTART:20261025T010000
END:STANDARD
END:VTIMEZONE
BEGIN:VEVENT
DTSTART;TZID=Europe/Oslo:20250129T121500
DTEND;TZID=Europe/Oslo:20250129T130000
DTSTAMP:20260419T170827
CREATED:20241119T101156Z
LAST-MODIFIED:20250117T101808Z
UID:1011-1738152900-1738155600@geolunch.w.uib.no
SUMMARY:Thomas Theunissen
DESCRIPTION:Interaction of tectonics and surface process during oblique rifted margin formation. Insights from 3-D forward coupled geodynamic-surface process modelling. \nThomas Theunissen \nThe magma-poor passive rifted conjugate margins in the Southern Equatorial Atlantic\, North Atlantic/Arctic oceans\, and Northern Mozambique Channel display en-echelon extensional segments separated by long transform faults (>300 km)\, influenced by inherited weaknesses. Using advanced 3-D forward geodynamic modeling coupled with surface processes\, we investigate the formation of oblique rifts and passive margins. Our focus is on pre-existing weaknesses parallel to the extension direction\, exploring the system’s sensitivity to various erodibility factors. Key findings include: (1) erodibility within a low to moderate range has limited influence on the morpho-structural evolution of the oblique continental rift\, (2) pure-strike slip faults reactivating transform weaknesses result in reduced topography\, (3) major catchments sink in the inner corner at the tip of each extensional segments\, and (4) hinterland drainage network capture along extensional segments is absent\, controlled by isostatic rebound during rift flank drainage divide migration. This study enhances our understanding of the complex  nterplay between inherited weaknesses\, erodibility\, and the evolving morphology of oblique rifted margins.
URL:https://geolunch.w.uib.no/event/thomas-theunissen-10/
END:VEVENT
END:VCALENDAR