BEGIN:VCALENDAR
VERSION:2.0
PRODID:-//Geolunch seminar @ UiB - ECPv6.15.20//NONSGML v1.0//EN
CALSCALE:GREGORIAN
METHOD:PUBLISH
X-WR-CALNAME:Geolunch seminar @ UiB
X-ORIGINAL-URL:https://geolunch.w.uib.no
X-WR-CALDESC:Events for Geolunch seminar @ UiB
REFRESH-INTERVAL;VALUE=DURATION:PT1H
X-Robots-Tag:noindex
X-PUBLISHED-TTL:PT1H
BEGIN:VTIMEZONE
TZID:Europe/Oslo
BEGIN:DAYLIGHT
TZOFFSETFROM:+0100
TZOFFSETTO:+0200
TZNAME:CEST
DTSTART:20240331T010000
END:DAYLIGHT
BEGIN:STANDARD
TZOFFSETFROM:+0200
TZOFFSETTO:+0100
TZNAME:CET
DTSTART:20241027T010000
END:STANDARD
BEGIN:DAYLIGHT
TZOFFSETFROM:+0100
TZOFFSETTO:+0200
TZNAME:CEST
DTSTART:20250330T010000
END:DAYLIGHT
BEGIN:STANDARD
TZOFFSETFROM:+0200
TZOFFSETTO:+0100
TZNAME:CET
DTSTART:20251026T010000
END:STANDARD
BEGIN:DAYLIGHT
TZOFFSETFROM:+0100
TZOFFSETTO:+0200
TZNAME:CEST
DTSTART:20260329T010000
END:DAYLIGHT
BEGIN:STANDARD
TZOFFSETFROM:+0200
TZOFFSETTO:+0100
TZNAME:CET
DTSTART:20261025T010000
END:STANDARD
END:VTIMEZONE
BEGIN:VEVENT
DTSTART;TZID=Europe/Oslo:20250507T001500
DTEND;TZID=Europe/Oslo:20250507T130000
DTSTAMP:20260419T171522
CREATED:20250407T083838Z
LAST-MODIFIED:20250409T121517Z
UID:1063-1746576900-1746622800@geolunch.w.uib.no
SUMMARY:Bayani Cardenas
DESCRIPTION:Ridge to reef volcanic hydrogeology: submarine groundwater in the world’s most biodiverse coasts \nBayani Cardenas – Jackson School of Geosciences\, The University of Texas at Austin \n  \nAbstract \nWater flows from land to the ocean not only through rivers and estuaries but also below-ground through coastal and submarine aquifers. While the global fresh submarine groundwater discharge (SGD) is less than nutrient inputs are 25% of riverine inputs. This land-ocean connectivity is important for sensitive ecosystems such as coral reefs if the groundwater we present the interesting but in the Philippines which has been coral reefs provide for local communities. We studied coastal and submarine thermal springs associated with high fluxes of acidic waters and carbon dioxide\, some of which are within or close to thriving coral reefs. The SGD fluxes are amongst the largest in the world and the SGD carbon dioxide fluxes overwhelm coastal carbon budgets. The presentation delivers explanations for the high SGD\, discussing the mechanics and different sources and pathways of water\, by bringing together multiple lines of evidence from different methods including deep diving\, drones\, novel sensors\, geochemical tracers\, thermal remote sensing\, and modeling.
URL:https://geolunch.w.uib.no/event/bayani-cardenas/
LOCATION:Auditorium 5\, 3rd floor\, Realfabyyget\, 41 Allégaten\, Bergen\, 5007\, Norway
END:VEVENT
END:VCALENDAR