BEGIN:VCALENDAR
VERSION:2.0
PRODID:-//Geolunch seminar @ UiB - ECPv6.15.20//NONSGML v1.0//EN
CALSCALE:GREGORIAN
METHOD:PUBLISH
X-WR-CALNAME:Geolunch seminar @ UiB
X-ORIGINAL-URL:https://geolunch.w.uib.no
X-WR-CALDESC:Events for Geolunch seminar @ UiB
REFRESH-INTERVAL;VALUE=DURATION:PT1H
X-Robots-Tag:noindex
X-PUBLISHED-TTL:PT1H
BEGIN:VTIMEZONE
TZID:Europe/Oslo
BEGIN:DAYLIGHT
TZOFFSETFROM:+0100
TZOFFSETTO:+0200
TZNAME:CEST
DTSTART:20250330T010000
END:DAYLIGHT
BEGIN:STANDARD
TZOFFSETFROM:+0200
TZOFFSETTO:+0100
TZNAME:CET
DTSTART:20251026T010000
END:STANDARD
BEGIN:DAYLIGHT
TZOFFSETFROM:+0100
TZOFFSETTO:+0200
TZNAME:CEST
DTSTART:20260329T010000
END:DAYLIGHT
BEGIN:STANDARD
TZOFFSETFROM:+0200
TZOFFSETTO:+0100
TZNAME:CET
DTSTART:20261025T010000
END:STANDARD
BEGIN:DAYLIGHT
TZOFFSETFROM:+0100
TZOFFSETTO:+0200
TZNAME:CEST
DTSTART:20270328T010000
END:DAYLIGHT
BEGIN:STANDARD
TZOFFSETFROM:+0200
TZOFFSETTO:+0100
TZNAME:CET
DTSTART:20271031T010000
END:STANDARD
END:VTIMEZONE
BEGIN:VEVENT
DTSTART;TZID=Europe/Oslo:20260415T121500
DTEND;TZID=Europe/Oslo:20260415T130000
DTSTAMP:20260419T173339
CREATED:20260204T122212Z
LAST-MODIFIED:20260204T122212Z
UID:1098-1776255300-1776258000@geolunch.w.uib.no
SUMMARY:Anna Karine Døsen
DESCRIPTION:
URL:https://geolunch.w.uib.no/event/anna-karine-dosen/
LOCATION:Kontinentalsokkelen (2G16e)\, Realfagbygget\, Allégaten 41\, Bergen\, 5007\, Norway
END:VEVENT
END:VCALENDAR